BEGIN:VCALENDAR
VERSION:2.0
PRODID:-//eventon.com NONSGML v1.0//EN
CALSCALE:GREGORIAN
METHOD:PUBLISH
BEGIN:VEVENT
UID:69e5f6f73f2ef
DTSTAMP:20260420T095047Z
DTSTART:20251005T160000Z
DTEND:20251005T170000Z
LOCATION:
SUMMARY:Blessing of the Animals
DESCRIPTION:Blessing of the Animals October 5 @ Noon on our Lower Churchyar
 d In the spirit of St. Francis of Assisi and our appreciation for the diver
 se and wonderful creatures that inhabit God&#8217;s Creation\,  we invite y
 ou and your beloved pets to our Annual Blessing of the Animals! The event 
 takes place[..]\nhttps://stjohnswf.org/events/blessing-of-the-animals/
URL:https://stjohnswf.org/events/blessing-of-the-animals/
END:VEVENT
END:VCALENDAR